BEGIN:VCALENDAR
VERSION:2.0
PRODID:-//Stadtgeschichte München//DE
CALSCALE:GREGORIAN
BEGIN:VEVENT
UID:18126@stadtgeschichte-muenchen.de
SUMMARY:Stammtisch der Erinnerungen für GiesingER:
DESCRIPTION:&lt;p&gt;Zwischen 1955 und 1968 schlossen deutsche Regierungen Anwerbeabkommen unter anderem mit Italien, Spanien, Griechenland, Jugoslawien und der Türkei, in deren Folge viele Tausend „Gastarbeiter\'\' · - und später auch ihre Familien - nach München kamen. Die Vorbehalte der deutschen Bevölkerung gegenüber den Fremden waren teilweise massiv.A uslandsreisen und die Eröffnung italienischer, griechischer oder türkischer Lokale trugen dazu bei, die Kult\\Jr der Zugewanderten besser schätzen zu lernen.&lt;/p&gt; 
DTSTART:20191118T143000
DTEND:20191118T163000
LOCATION:MÜNCHENSTIFT Haus St. Martin · St.-Martin-Str. 34
ORGANIZER:MVHS München Ost
END:VEVENT
END:VCALENDAR