BEGIN:VCALENDAR
VERSION:2.0
PRODID:-//Stadtgeschichte München//DE
CALSCALE:GREGORIAN
BEGIN:VEVENT
UID:18148@stadtgeschichte-muenchen.de
SUMMARY:Eintreten für Zivilcourage
DESCRIPTION:
DTSTART:20191210T180000
DTEND:20191210T193000
LOCATION:MVHS · Albert-Roßhaupter-Str.8
ORGANIZER:MVHS München Süd
END:VEVENT
END:VCALENDAR