BEGIN:VCALENDAR
VERSION:2.0
PRODID:-//Stadtgeschichte München//DE
CALSCALE:GREGORIAN
BEGIN:VEVENT
UID:18151@stadtgeschichte-muenchen.de
SUMMARY:Die Neugestaltung des Partnachplatzes
DESCRIPTION:&lt;p&gt;Eine Verschönerung und.bessere Nutzungsmöglichkeiten des Partnachplaztes stand im BezirksausschussS endling-Westparkg anz oben auf der Agenda. Dazu konnten die Bürgerinnen und Bürger des Stadtviertels ihre Wünsche direkt einbringen: In einem Ideenworkshop wurden Vorschläge zur Gestaltung. erarbeitet und in einer zweiten Veranstaltung öffentlich präsentiert. · ErsteE rgebnissed ieser Bürgerbeteiligung liegen nun vor. Der Bezirks- , ausschussin formiert über den aktuellen Stand der Gesprächem it der Stadtverwaltung und die Möglichkeiten, die Wünsche der Bürgerinnen und Bürger umzusetzer:.&lt;/p&gt; 
DTSTART:20200218T180000
DTEND:20200218T193000
LOCATION:MVHS Albert-Roßhaupter-Str. 8
ORGANIZER:MVHS München Süd
END:VEVENT
END:VCALENDAR