BEGIN:VCALENDAR
VERSION:2.0
PRODID:-//Stadtgeschichte München//DE
CALSCALE:GREGORIAN
BEGIN:VEVENT
UID:18179@stadtgeschichte-muenchen.de
SUMMARY:Erinnerungsort BADEHAUS
DESCRIPTION:&lt;p&gt;Im BADEHAUSv on Waldram (ehemaligesZ wangsarbeiterlager Föhrenwald) ist Geschichte wie im Zeitraffer erlebbar: Ab 1940 errichteten die Nationalsozialistenim WolfratshauserF orst eine Mustersiedlungf ür RüstungsarbeiterG. egen Kriegsendef ührte hier der KZ-Todesmarsch vorbei. Dann wurde Föhrenwald zu einem Lager für jüdische DisplacedP ersons.A b 1956 wurden Heimatvertriebene angesiedelt und der Ort in Waldram umbenannt. Eine Bürgerinitiative rettete das Gebäude und richtete den Erinnerungsort ein. Die Führung zeigt die Spuren. dieser einzigartigen MigrationsgeschichteJ124796&lt;/p&gt; 
DTSTART:20200209T110000
DTEND:20200209T130000
LOCATION:Erinnerungsort BADEHAUS, Wolfratshausen-Waldram · l(olpingplatz
ORGANIZER:MVHS München Süd
END:VEVENT
END:VCALENDAR