BEGIN:VCALENDAR
VERSION:2.0
PRODID:-//Stadtgeschichte München//DE
CALSCALE:GREGORIAN
BEGIN:VEVENT
UID:18182@stadtgeschichte-muenchen.de
SUMMARY:Die russisch-orthodoxe Kirche - eine Annäherung
DESCRIPTION:&lt;p&gt;Mit dem Fall des Eisernen Vorhangs rückte auch die russisch-orthodoxe Konfession wieder vermehrt in unser Blickfeld. Das kleine Kloster ist ein Ableger eines der vier größten russischenK löste,r Bereits nach der RussischenR evolution waren Teiled er dortigen Bruderschaft über die Schweiz nach München geflüchtet, wo sie 1945 das Kloster gründeten: Heute beherbergt es ;zehn Mönche. Das Kloster betreibt neben Werkstätten für Kerzen und Weihrauch auch eine Druckerei,d ie den Orthodoxen Kirchenkalenders owie geistliche Literatur in deutscheru nd russischerS pracheh erausgibt. In Kooperation mit dem Kloster des Hi Hiob München-Obermenzing.&lt;/p&gt; 
DTSTART:20200110T190000
DTEND:20200110T203000
LOCATION:Russisch-orthodoxes Kloster, am Klostereingang · Hofbauernstr. 26
ORGANIZER:MVHS München West
END:VEVENT
END:VCALENDAR