BEGIN:VCALENDAR
VERSION:2.0
PRODID:-//Stadtgeschichte München//DE
CALSCALE:GREGORIAN
BEGIN:VEVENT
UID:18192@stadtgeschichte-muenchen.de
SUMMARY:Wie die Nationalsozialisten in Pasing die Demokratie zerschlugen
DESCRIPTION:&lt;p&gt;Nationalsozialisten aufzeigen, mit denen sie auch in Pasing die Demokratie zerschlugen. So kam es schon vor dem 30. Januar 1933 zu Überfällen und Ausschreitungen und es wurden schon bald nach der sogenannten Machtergreifung jüdische Bürger terrorisiert und politische Gegner verhaftet und ihre.Organisationen verboten. Äußerlich sichtbares Zeichen war die Hissung der Hakenkreuzfahne am Pasinger Rathaus am 9. März 1933 - der Terror nahm seinen Lauf .&lt;/p&gt; 
DTSTART:20191017T180000
DTEND:20191017T193000
LOCATION:MVHS · Bäckerstr. 14
ORGANIZER:MVHS München West
END:VEVENT
END:VCALENDAR