BEGIN:VCALENDAR
VERSION:2.0
PRODID:-//Stadtgeschichte München//DE
CALSCALE:GREGORIAN
BEGIN:VEVENT
UID:18197@stadtgeschichte-muenchen.de
SUMMARY:Das Pasinger Rathaus
DESCRIPTION:&lt;p&gt;Selbstbewusstsein der 1905 zur Stadt erhobenen Gemeinde Pasing. Mit der Eingemeindung 1938 verlor Pasing die Selbstständigkeit und das Rathausv iel von seinE;ru rsprünglichenB estimmung. Heute sind in den Räumen eine Bezirksinspek t ion, das Bürgerbüro, das Standesamt, das Sozialbürgerhaus und die Geschäftsstelle für die Bezirksausschüsseim Münchner Westen untergebracht. Der Weg durch das imposante Gebäude führt u. a. in den Trausaal, den alten Sitzungssaal, zur Turmuhr mit dem kleinen Glockenspiel und zum Hochzeits&quot; brunnen des Bildhauers Hans Osel.&lt;/p&gt; 
DTSTART:20191107T163000
DTEND:20191107T180000
LOCATION:Rathaus Pasing · Landsberger Str. 486
ORGANIZER:MVHS München West
END:VEVENT
END:VCALENDAR