BEGIN:VCALENDAR
VERSION:2.0
PRODID:-//Stadtgeschichte München//DE
CALSCALE:GREGORIAN
BEGIN:VEVENT
UID:18201@stadtgeschichte-muenchen.de
SUMMARY:Der Trafo 2 - Neuhaus.en bekommt ein neues Bürgerzentrum
DESCRIPTION:&lt;p&gt;Im Herbst 2019, neun Jahre nach der ersten Projektgenehmigung, soll es nun endlich soweit sein: der zweite Bauabschnitt des Neuhauser Trafos geht nach Jahren der Planung, juristischer Aus- · einandersetzungenu nd archäologischerF ur:idee ndlich seiner Fertigstellung entgeger.i. Ingeborg Staudenmeyer vom Trägerverein Stadtteilkultur Neuhausen-Nymphenburgfü hrt durch das Gebäude und erläutert in ihrem Vortrag, wie die 700 m2 des „ Trafo 2&quot; zukünftig für künstlerische und kulturelle Aktivitäten genutzt werden sollen.&lt;/p&gt; 
DTSTART:20191021T180000
DTEND:20191021T193000
LOCATION:MVHS · Neuhauser Trafo · Nymphenburger Str. 171 a
ORGANIZER:MVHS München West
END:VEVENT
END:VCALENDAR