BEGIN:VCALENDAR
VERSION:2.0
PRODID:-//Stadtgeschichte München//DE
CALSCALE:GREGORIAN
BEGIN:VEVENT
UID:18204@stadtgeschichte-muenchen.de
SUMMARY:Sauber durch die Stadt - bessere Radwege für den Münchner Westen
DESCRIPTION:&lt;p&gt;Fahrradwege sind nicht nur im Münchner Westen unverzichtbare Bausteine eines klimaschonenden Verkehrskonzepts. Bei der Planung neuer Quartiere wie in Freiharn werden Radspuren von Anfang an eingeplant. Aber auch gute Verbindungen Richtung Innenstadt müssen mitgedacht werden, soll ein sicheres, die Straßen entlastendes Radwegenetz entstehen.&lt;/p&gt; &lt;p&gt;An diesem Abend werden Konzepte besprochen, wie Radwege gestaltet werden können, damit alle Bürger das klimafreundliche und gesundheitsfördernde Verkehrsmittel Fahrrad gefahrenlos und effektiv nutzen können.&lt;/p&gt; 
DTSTART:20191204T183000
DTEND:20191204T200000
LOCATION:MVHS · Bäckerstr. 14
ORGANIZER:MVHS München West
END:VEVENT
END:VCALENDAR