BEGIN:VCALENDAR
VERSION:2.0
PRODID:-//Stadtgeschichte München//DE
CALSCALE:GREGORIAN
BEGIN:VEVENT
UID:18206@stadtgeschichte-muenchen.de
SUMMARY:Die Aubinger Brauerei Reber
DESCRIPTION:&lt;p&gt;Aubing hat seit Kurzem eine eigene Brauerei. Die kleine Brauerei ist in einem ehemaligen Stadel untergebracht, in.dem der Hobbybrauer seinen Gerstensaft braut. Bei der Besichtigung der Brauerei erzählt Ihnen Philip Reber was ihn dazu veranlasste, seine eigene Brauerei zu gründen und wird auch auf den Brauvorgang eingehen. Im Anschluss gibt es eine Verkostung des selbstgebrauten Bieres. Verköstigung zum Preis von€ 5.- vor Ort zu bezahlen.&lt;/p&gt; 
DTSTART:20191107T180000
DTEND:20191107T193000
LOCATION:vor der Brauerei Reber · Ubostr. 22
ORGANIZER:MVHS München West
END:VEVENT
END:VCALENDAR