BEGIN:VCALENDAR
VERSION:2.0
PRODID:-//Stadtgeschichte München//DE
CALSCALE:GREGORIAN
BEGIN:VEVENT
UID:18211@stadtgeschichte-muenchen.de
SUMMARY:Besuch bei der Fassfabrik Wilhelm Schmid
DESCRIPTION:&lt;p&gt;In München-Laim steht seit dem Jahr 1914 die letzte noch bestehende . FassfabrikS üdbayerns. Der Schäffler war früher einer der bedeutendsten Handwerksberufe. Die Aufgabe des Schäfflers besteht heute noch in der Herstellung und Reparatur von Holzgefäßen aller Art. Als Traditionsbetrieb legt.die Fassfabrik Schmid sehr großen Wert auf.sorgfältige Verarbeitung und Holzauswahl. Bei einer Führung durch das Werk erhalten Sie Einblick in die Arbeit der letzten Schäffler Münchens.&lt;/p&gt; 
DTSTART:20191025T110000
DTEND:20191025T120000
LOCATION:Straubinger Str. 34 (Firmeneingang)
ORGANIZER:MVHS München West
END:VEVENT
END:VCALENDAR