BEGIN:VCALENDAR
VERSION:2.0
PRODID:-//Stadtgeschichte München//DE
CALSCALE:GREGORIAN
BEGIN:VEVENT
UID:18223@stadtgeschichte-muenchen.de
SUMMARY:Eine Wanderung durch die Geschichte
DESCRIPTION:&lt;p&gt;Hausnamen sind, vor allem im ländlichen Bereich, uraltes Kulturgut. In einer Zeit, als es noch keine Grundbücher und Hausnummern gab, entstanden Hausnamen aus der Notwendigkeit, ein Anwesen (Hof oder Haus mit Grundstück) eindeutig zu definieren sowie den Ort zu benennen. Vor 1812 waren Hausnamen auch in Menzing das Zuordnungsme~kmafül r alle dort wohnenden PersonenW. andern Sie bei diesem bebilderten Vortrag durch die Geschichte Öber-.und Untermenzinger Häuser und Höfe.&lt;/p&gt; 
DTSTART:20190212T183000
DTEND:20190212T200000
LOCATION:Carlhäusl · An der Würm 1
ORGANIZER:MVHS München West
END:VEVENT
END:VCALENDAR