BEGIN:VCALENDAR
VERSION:2.0
PRODID:-//Stadtgeschichte München//DE
CALSCALE:GREGORIAN
BEGIN:VEVENT
UID:18253@stadtgeschichte-muenchen.de
SUMMARY:Europas glanzvollster Wanddekor
DESCRIPTION:&lt;p&gt;Residenzwoche München&lt;br /&gt; Europa in der Residenz&lt;/p&gt; 
DTSTART:20191017T130000
DTEND:20191017T140000
LOCATION:Eingangshalle Residenzmuseum
ORGANIZER:Bayerische Schlösserverwaltung
END:VEVENT
END:VCALENDAR