BEGIN:VCALENDAR
VERSION:2.0
PRODID:-//Stadtgeschichte München//DE
CALSCALE:GREGORIAN
BEGIN:VEVENT
UID:18292@stadtgeschichte-muenchen.de
SUMMARY:Der Englische Garten und seine Anbindung an die Residenz München
DESCRIPTION:&lt;p&gt;Residenzwoche München&lt;br /&gt; Europa in der Residenz&lt;/p&gt; 
DTSTART:20191012T140000
DTEND:20191012T160000
LOCATION:Aufgang Chinesischer Turm
ORGANIZER:Bayerische Schlösserverwaltung
END:VEVENT
END:VCALENDAR