BEGIN:VCALENDAR
VERSION:2.0
PRODID:-//Stadtgeschichte München//DE
CALSCALE:GREGORIAN
BEGIN:VEVENT
UID:1830@stadtgeschichte-muenchen.de
SUMMARY:Volkssternwarte München
DESCRIPTION:&lt;p&gt;Neben einer F&amp;uuml;hrung durch die Sternwarte und den Ausstellungsraum erleben die Besucher im Planetarium die Pracht eines Sternhimmels, wie er in der Natur nur unter besten Bedingungen zu sehen ist. Es werden u.a. die zur Zeit sichtbaren Sternbilder vorgestellt und ein aktuelles Monatsthema besprochen. Bei gutem Wetter finden Live-Beobachtungen interessanter Himmelsobjekte am Fernrohr statt. Die gebotenen Bilder sind beeindruckend und z.T. atemberaubend sch&amp;ouml;n. Ehrfurcht vor der Sch&amp;ouml;pfung wird uns f&amp;uuml;r einen Augenblick nachdenklich stimmen.&lt;/p&gt; &lt;p&gt;Eintrittspreis in die Volksternwarte enthalten.&lt;/p&gt;
DTSTART:20120621T210000
DTEND:20120621T223000
LOCATION:vor dem Haupteingang, Rosenheimerstr. 145
ORGANIZER:DGB-Bildungswerk Bayern e.V. Region München
END:VEVENT
END:VCALENDAR