BEGIN:VCALENDAR
VERSION:2.0
PRODID:-//Stadtgeschichte München//DE
CALSCALE:GREGORIAN
BEGIN:VEVENT
UID:18306@stadtgeschichte-muenchen.de
SUMMARY:Der Münchner Hof und seine Vorliebe für ostasiatisches Porzellan
DESCRIPTION:&lt;p&gt;Residenzwoche München&lt;br /&gt; Europa in der Residenz&lt;/p&gt; 
DTSTART:20191014T100000
DTEND:20191014T111500
LOCATION:Eingangshalle Residenzmuseum
ORGANIZER:Bayerische Schlösserverwaltung
END:VEVENT
END:VCALENDAR