BEGIN:VCALENDAR
VERSION:2.0
PRODID:-//Stadtgeschichte München//DE
CALSCALE:GREGORIAN
BEGIN:VEVENT
UID:1832@stadtgeschichte-muenchen.de
SUMMARY:Unser Weg führt nach Dachau II
DESCRIPTION:&lt;p&gt;Rundgang &amp;uuml;ber die KZ-Gedenkst&amp;auml;tte Dachau mit besonderem Augenmerk auf das Schicksal von M&amp;uuml;nchner B&amp;uuml;rgern, die im KZ Dachau leiden mussten.&lt;/p&gt; &lt;p&gt;Zu diesem Rundgang geh&amp;ouml;rt der Vortrag &amp;uuml;ber das Schicksal M&amp;uuml;nchner KZ-H&amp;auml;ftlinge. Kursnummer C256-12/2 am 21.03.2012.&lt;/p&gt;
DTSTART:20120324T140000
DTEND:20120324T163000
LOCATION:Besucherzentrum der KZ Gedenkstätte
ORGANIZER:DGB-Bildungswerk Bayern e.V. Region München
END:VEVENT
END:VCALENDAR