BEGIN:VCALENDAR
VERSION:2.0
PRODID:-//Stadtgeschichte München//DE
CALSCALE:GREGORIAN
BEGIN:VEVENT
UID:18325@stadtgeschichte-muenchen.de
SUMMARY:Italienisches München
DESCRIPTION:&lt;p&gt;&lt;strong&gt;Führung für interessierte (Neu-) Bürger und Zuagroaste&lt;/strong&gt;&lt;/p&gt; &lt;p&gt;Kennen Sie die Isarmetropole und ihre wichtigsten Highlights im 1. und 2. Mauerring? Nein, nein, nicht in Zahlen, Daten und Fakten – sondern in Geschichten und lustigen Sprüchen verpackt? Wir erkunden München auf lockere und unterhaltsame Weise. Sie erhalten einen Überblick zu den «klassischen» Sehenswürdigkeiten und entdecken so manch verborgenen Winkel im Münchner Stadtkern.&lt;/p&gt; &lt;p&gt;Auf unserer Route entdecken wir so manches Gebäude, das uns an die schönen Palazzi, Innenhöfe und Arkadengänge Italiens erinnert. Die Wittelsbacher hatten bereits vor über 500 Jahren den Wunsch, aus München ein zweites Florenz zu gestalten. Sie werden sehen, dass dieses Vorhaben durchaus gelungen ist. Durch bildgestütztes Material wird die Führung zum visuellen Erlebnis mit Aha-Effekt und Sie stellen fest: München ist die nördlichste Stadt Italiens.&lt;/p&gt; 
DTSTART:20191017T113000
DTEND:20191017T133000
LOCATION:wird mitgeteilt
ORGANIZER:Verlag PhantasieReich
END:VEVENT
END:VCALENDAR