BEGIN:VCALENDAR
VERSION:2.0
PRODID:-//Stadtgeschichte München//DE
CALSCALE:GREGORIAN
BEGIN:VEVENT
UID:1833@stadtgeschichte-muenchen.de
SUMMARY:„Besuch der Münchner Hauptfeuerwache
DESCRIPTION:&lt;div&gt;Die Hauptfeuerwache in der N&amp;auml;he des Sendlinger Tors wurde 1904 zum 25-j&amp;auml;hrigen Bestehen der M&amp;uuml;nchner Berufsfeuerwehr in Betrieb genom&amp;not;men, nachdem das alte &amp;bdquo;Zentralfeuerhaus&amp;quot; zu klein geworden war. Ihr &amp;auml;u&amp;szlig;eres Erscheinungsbild heute gleicht im Wesentlichen noch dem aus dieser Zeit. In der Hauptfeuerwache befinden sich auch der Sitz der &amp;szlig;randdirektion der Stadt M&amp;uuml;nchen und weitere zentrale Abteilungen der M&amp;uuml;nchner Berufsfeuerwehr sowie das 1979 er&amp;ouml;ffnete Feuerwehrmu&amp;not;seum.&lt;/div&gt; &lt;div&gt;Bei dieser F&amp;uuml;hrung wird neben der Wache und dem dort stationierten Fahrzeugpark auch das angeschlossene M&amp;uuml;nchner Feuerwehrmuseum besichtigt.&lt;/div&gt;
DTSTART:20120803T150000
DTEND:20120803T163000
LOCATION:An der Hauptfeuerwache 8
ORGANIZER:DGB-Bildungswerk Bayern e.V. Region München
END:VEVENT
END:VCALENDAR