BEGIN:VCALENDAR
VERSION:2.0
PRODID:-//Stadtgeschichte München//DE
CALSCALE:GREGORIAN
BEGIN:VEVENT
UID:1834@stadtgeschichte-muenchen.de
SUMMARY:Die Geschichte Bayerns
DESCRIPTION:&lt;div&gt;Von 1180 an wurde Bayern von den Wittelsbachern regiert. Bayern erlebte eine Periode zahlreicher Teilungen, die erst durch das Primogeniturgesetz von 1506 ein Ende fanden. In der Gegenreformation nahm Bayern eine f&amp;uuml;hrende Stellung ein und ging aus dem Drei&amp;szlig;igj&amp;auml;hrigen Krieg mit Gebietsgewinnen und dem Aufstieg zum Kurf&amp;uuml;rstentum 1623 hervor. Zur Zeit Napoleons stand Bayern anfangs auf der Seite Frankreichs und konnte durch S&amp;auml;kularisation und Mediatisierung gro&amp;szlig;e Gebietsgewinne verzeichnen. 1806 erfolgte die Erhebung zum K&amp;ouml;nigreich. K&amp;ouml;nig Ludwig l. baute M&amp;uuml;nchen zur Kunst- und Universit&amp;auml;tsstadt aus. Ludwig II. ging wegen des Baues seiner Schl&amp;ouml;sser als M&amp;auml;rchenk&amp;ouml;nig in die Geschichte ein. 1918 brach die Wittelsbacher Monarchie zusammen und Bayern wurde als Freistaat ausgerufen.&lt;/div&gt;
DTSTART:20120302T180000
DTEND:20120302T210000
LOCATION:DGB-Haus, Raum T.0.06
ORGANIZER:DGB-Bildungswerk Bayern e.V. Region München
END:VEVENT
END:VCALENDAR