BEGIN:VCALENDAR
VERSION:2.0
PRODID:-//Stadtgeschichte München//DE
CALSCALE:GREGORIAN
BEGIN:VEVENT
UID:18349@stadtgeschichte-muenchen.de
SUMMARY:MmaAs: Engelstour
DESCRIPTION:&lt;p&gt;Zu Münchner Engeln in Kunst und Kulturgeschichte – eine Führung im Rahmen des Projektes „München mit anderen Augen sehen“&lt;/p&gt; &lt;p&gt;Unser Spaziergang zu großen und kleinen Engeln in der Münchener Innenstadt führt uns zu bedeutenden Kunstwerken und kleinen Besonderheiten der Stadtgeschichte.&lt;/p&gt; 
DTSTART:20191010T140000
DTEND:20191010T160000
LOCATION:Kircheneintrittsstelle, Herzog-Wilhelm-Str. 24
ORGANIZER:Evangelisches Bildungswerk e.V.
END:VEVENT
END:VCALENDAR