BEGIN:VCALENDAR
VERSION:2.0
PRODID:-//Stadtgeschichte München//DE
CALSCALE:GREGORIAN
BEGIN:VEVENT
UID:1835@stadtgeschichte-muenchen.de
SUMMARY:Schlösserfahrt auf dem Starnberger See
DESCRIPTION:&lt;div&gt;Wenn Sie mehr &amp;uuml;ber den &amp;bdquo;F&amp;uuml;rstensee&amp;quot; erfahren wollen als die knappen Schiffsdurchsagen, sind Sie bei dieser Fahrt richtig. Wir fahren von Starnberg nach Possenhofen. Dabei begegnen wir nat&amp;uuml;rlich Sisi, der Kaiserin von &amp;Ouml;sterreich, die hier die sch&amp;ouml;nste Zeit ihrer Kindheit ver&amp;not;brachte. Weiter geht es nach Leoni, wo wir das Schiff verlassen. Wir gehen zu Fu&amp;szlig; zu Votivkapelle und sprechen &amp;uuml;ber K&amp;ouml;nig Ludwig II., der hier gestorben ist. Dann gehen wir zu Fu&amp;szlig; nach Berg und fahren mit dem Schiff zur&amp;uuml;ck nach Starnberg. Zu den vom Schiff aus zu sehenden Schl&amp;ouml;ssern, Villen, Parks, markanten Orten und Pers&amp;ouml;nlichkeiten gibt es viel zu h&amp;ouml;ren. Gehstrecke ca. 2 km.&lt;/div&gt;
DTSTART:20120620T120000
DTEND:20120620T150000
LOCATION:S-Bahnstation  Starnberg,  Ausgang  See
ORGANIZER:DGB-Bildungswerk Bayern e.V. Region München
END:VEVENT
END:VCALENDAR