BEGIN:VCALENDAR
VERSION:2.0
PRODID:-//Stadtgeschichte München//DE
CALSCALE:GREGORIAN
BEGIN:VEVENT
UID:1836@stadtgeschichte-muenchen.de
SUMMARY:Buchheim Museum
DESCRIPTION:&lt;div&gt;Das Buchheim Museum der Phantasie ist seit Jahren ein Publikumsma&amp;not;gnet am Starnberger See. Die beeindruckende Natur, die Architektur des Geb&amp;auml;udes (Olympiaarchitekt Behnisch) und die einmalige Sammlung deutscher Expressionisten bilden ein Gesamtkunstwerk. Daneben sind weitere Sammlungen zum Thema V&amp;ouml;lkerkunde, Volkskunst sowie Werke des Multitalents Buchheim zu sehen.&lt;/div&gt; &lt;div&gt;&amp;nbsp;&lt;/div&gt; &lt;div&gt;Auf der Schifffahrt nach und von Bernried sprechen wir &amp;uuml;ber die Schl&amp;ouml;sser, Villen, Parks, markanten Orte und Pers&amp;ouml;nlichkeiten, die den Starnberger See ber&amp;uuml;hmt gemacht haben.&lt;/div&gt; &lt;div&gt;&amp;nbsp;&lt;/div&gt; &lt;div&gt;Nach dem Museumsbesuch (ca. 2 Stunden, mit einer F&amp;uuml;hrung um 14:00 Uhr) gehen wir die Hofmarkskirche, das Grab Buchheims und den &amp;auml;ltesten Teil Bernrieds zur&amp;uuml;ck zur Schiffsanlegestelle.&lt;/div&gt;
DTSTART:20120613T121500
DTEND:20120613T180000
LOCATION:S-Bahnstation Starnberg, Ausgang See - Fußweg insgesamt ca. 2 Stunden.
ORGANIZER:DGB-Bildungswerk Bayern e.V. Region München
END:VEVENT
END:VCALENDAR