BEGIN:VCALENDAR
VERSION:2.0
PRODID:-//Stadtgeschichte München//DE
CALSCALE:GREGORIAN
BEGIN:VEVENT
UID:18366@stadtgeschichte-muenchen.de
SUMMARY:Münchner November-Gschichten
DESCRIPTION:
DTSTART:20201108T110000
DTEND:20201108T133000
LOCATION:Mariensäule * Marienplatz
ORGANIZER:Münchner Zeitensprünge
END:VEVENT
END:VCALENDAR