BEGIN:VCALENDAR
VERSION:2.0
PRODID:-//Stadtgeschichte München//DE
CALSCALE:GREGORIAN
BEGIN:VEVENT
UID:1837@stadtgeschichte-muenchen.de
SUMMARY:Ortsführung im Promi-Ort Tutzing am Starnberger See
DESCRIPTION:&lt;div&gt;Wir lernen die Geschichte Tutzings vom kleinen Fischerdorf &amp;uuml;ber die &amp;bdquo;Hofmark&amp;quot; zum Promi-Ort der Gegenwart kennen. Viele ber&amp;uuml;hmten Per&amp;not;s&amp;ouml;nlichkeiten waren, zumindest zeitweise, Einwohner von Tutzing und Umgebung. Manche haben auf den &amp;ouml;rtlichen Friedh&amp;ouml;fen ihre letzte Ruhe gefunden. Auch in der heutigen Zeit haben sich verschiedene bekannte K&amp;uuml;nstler, Musiker, Schauspieler und Politiker die Gemeinde als Wohnort gew&amp;auml;hlt.&lt;/div&gt;
DTSTART:20120609T140000
DTEND:20120609T163000
LOCATION:S-Bahnhof Tutzing
ORGANIZER:DGB-Bildungswerk Bayern e.V. Region München
END:VEVENT
END:VCALENDAR