BEGIN:VCALENDAR
VERSION:2.0
PRODID:-//Stadtgeschichte München//DE
CALSCALE:GREGORIAN
BEGIN:VEVENT
UID:1840@stadtgeschichte-muenchen.de
SUMMARY:Naturschutzpark der „Entarteten
DESCRIPTION:&lt;div&gt;Seit hundert Jahren spielen die M&amp;uuml;nchner Kammerspiele eine bedeutende Rolle im Theater- und Kulturleben der Stadt. Seit 1917 unter der Direktion &amp;nbsp; &amp;nbsp; Gasteig Otto Falckenbergs und seit 1926 im Schauspielhaus &amp;nbsp; &amp;nbsp; &amp;nbsp; Raum 0.115 an der Maximilianstra&amp;szlig;e, gerieten sie zu Beginn der &amp;nbsp; &amp;nbsp; &amp;nbsp;Eintritt frei Drei&amp;szlig;igerjahre in den Strudel der Wirtschaftskrise &amp;nbsp; &amp;nbsp; &amp;nbsp; &amp;nbsp; BG 305 und mit dem Jahr der &amp;bdquo;Machtergreifung&amp;quot; in den Schwitzkasten der Kulturpolitik der &amp;bdquo;Hauptstadt der Bewegung&amp;quot; und der &amp;bdquo;Deutschen Kunst&amp;quot;: permanentes Drama auf und hinter der B&amp;uuml;hne um Einflussnahmen und Emigrationen, um hohen Kothurn und kommerzielle Niederungen, um k&amp;uuml;nstlerische Freir&amp;auml;ume und politische Konzessionen.&lt;/div&gt;
DTSTART:20120523T200000
DTEND:20120523T000000
LOCATION:Gasteig Raum 0.115
ORGANIZER:MVHS München Mitte   
END:VEVENT
END:VCALENDAR