BEGIN:VCALENDAR
VERSION:2.0
PRODID:-//Stadtgeschichte München//DE
CALSCALE:GREGORIAN
BEGIN:VEVENT
UID:18400@stadtgeschichte-muenchen.de
SUMMARY:Gemeinsam durch die Ausstellung
DESCRIPTION:&lt;p&gt;&lt;strong&gt;Die Fäden der Moderne - Matisse, Lurgat, Miro ... und die französischen Gobelins&lt;/strong&gt;&lt;/p&gt; &lt;p&gt;Seit über 400 Jahren steht die Pariser Gobelin-Manufaktur für Webkunst von höchster Qualität. Anhand einer Vielzahl großformatiger Tapisserien spannt die Ausstellung den Bogen vom Ende des Ersten Weltkriegs bis in die Gegenwart und zeigt, wie überraschend modern dieses noble Handwerk tatsächlich ist. In Zusammenarbeit mit den namhaftesten französischen und internationalen Künstlern - unter ihnen Henri Matisse, Pablo Picasso, Le Corbusier, Joan Miro und Louise Bourgeois - entstanden in der Gobelin-Manufaktur textile Meisterwerke, die nun zum ersten Mal in Deutschland präsentiert werden.&lt;/p&gt; &lt;p&gt;Während der Führung durch die Kunsthalle München werden wir uns ausgewählte Werke anschauen und den Facettenreichtum dieses unverwechselbaren Kunstgewerbes kennenlernen.&lt;/p&gt; 
DTSTART:20200228T180000
DTEND:20200228T193000
LOCATION:Kunsthalle München im Foyer, Theatinerstr. 8
ORGANIZER:DGB-Bildungswerk Bayern e.V. Region München
END:VEVENT
END:VCALENDAR