BEGIN:VCALENDAR
VERSION:2.0
PRODID:-//Stadtgeschichte München//DE
CALSCALE:GREGORIAN
BEGIN:VEVENT
UID:18425@stadtgeschichte-muenchen.de
SUMMARY:Friedhof am Perlacher Forst und JVA Stadelheim
DESCRIPTION:&lt;p&gt;Neben der informativen „Denkstätte“ unten im Lichthof der Ludwig-Maximilians- Universität wie dem Erinnerungsraum im Münchner Justizpalast gibt es noch zwei weitere wichtige Orte in München, die an die Mitglieder der Weißen Rose und ihren Widerstand gegen das verbrecherische NS-Regime erinnern, den sie mit ihrem Leben bezahlen mussten: den Friedhof am Perlacher Forst wie den Gedenkort in der JVA Stadelheim, der allen im dortigen Gefängnis hingerichteten Opfern des Terrorregimes gewidmet ist.&lt;/p&gt; &lt;p&gt;Nach dem Besuch der Grabstätten von Hans und Sophie Scholl, Christoph Probst und Alexander Schmoreil sowie weiteren Widerstandskämpfern auf dem Friedhof wollen wir anschließend in Begleitung die Gedenkstätte in der JVA aufsuchen, die an die Ideale wie den Mut Unzähliger erinnert, die sich dem damaligen Unrechtsregime unter Lebensgefahr entgegengestellt haben.&lt;/p&gt; 
DTSTART:20200527T091500
DTEND:20200527T111500
LOCATION:Friedhof am Perlacher Forst, Stadelheimerstr. 24 (Tram 18 Schwanseestraße), Eingang links neben der Haltestelle Bus Nr. 139
ORGANIZER:DGB-Bildungswerk Bayern e.V. Region München
END:VEVENT
END:VCALENDAR