BEGIN:VCALENDAR
VERSION:2.0
PRODID:-//Stadtgeschichte München//DE
CALSCALE:GREGORIAN
BEGIN:VEVENT
UID:18426@stadtgeschichte-muenchen.de
SUMMARY:Münchner Warenhäuser
DESCRIPTION:&lt;p&gt;Zumindest Teile der Gestaltungen haben sich erhalten bzw. wurden nach den Zerstörungen des Zweiten Weltkriegs behutsam rekonstruiert, so dass sich wesentliche Merkmale der beiden 1905 eröffneten bedeutenden Münchner Warenhäuser Karstadt am Bahnhof und Oberpollinger auch heute noch auffinden lassen. Ansonsten ist aber fast alles im Fluss: Häufige Besitzerwechsel wie neue Präsentationsund Verkaufskonzepte künden von den Schwierigkeiten, denen sich die traditionelle Gattung Warenhaus heute stellen muss. Dies wirft viele Fragen nach einer Zukunftsperspektive auf.&lt;/p&gt; 
DTSTART:20200604T173000
DTEND:20200604T190000
LOCATION:Haupteingang Karstadt am Bahnhof, Bahnhofsplatz/Ecke Schützenstraße, Ende beim Oberpollinger
ORGANIZER:DGB-Bildungswerk Bayern e.V. Region München
END:VEVENT
END:VCALENDAR