BEGIN:VCALENDAR
VERSION:2.0
PRODID:-//Stadtgeschichte München//DE
CALSCALE:GREGORIAN
BEGIN:VEVENT
UID:18438@stadtgeschichte-muenchen.de
SUMMARY:Nur wenig ist - außer den Kirchen - vom mittelalterlichen München erhalten: Einiges davon
DESCRIPTION:&lt;p&gt;Nur wenig ist - außer den Kirchen - vom mittelalterlichen München erhalten: Einiges davon, zum Beispiel den Alten Hof, den Münzhof, die Stadtmauerreste beim Isartor und einige der gotischen Häuser wollen wir auf unserem Rundgang ansehen - und natürlich auch das Hofbräuhaus. Im wohl ältesten Bürgerhaus der Stadt, Sterneckerstraße 2, befindet sich neben einigen dort erhaltenen „Rauchkucheln“ eine für München besonders typische Sammlung, die den Wirtschaftszweig Brauwesen ebenso eindrucksvoll dokumentiert, wie das mit dem Bier verbundene gesellige Leben in der Bayerischen Hauptstadt. Das angeschlossene Bierstüberl bietet im Rahmen der Führung einen Dokumentarfilm zum Thema „München und das Bier“ an.&lt;/p&gt; 
DTSTART:20200228T140000
DTEND:20200228T163000
LOCATION:Viktualienmarkt, Eingang zur Heilig-Geist-Kirche
ORGANIZER:DGB-Bildungswerk Bayern e.V. Region München
END:VEVENT
END:VCALENDAR