BEGIN:VCALENDAR
VERSION:2.0
PRODID:-//Stadtgeschichte München//DE
CALSCALE:GREGORIAN
BEGIN:VEVENT
UID:18468@stadtgeschichte-muenchen.de
SUMMARY:München durch die „Genderbrille“
DESCRIPTION:&lt;p&gt;Im Mittelpunkt des Rundgangs, der sich ausdrücklich an Frauen und Männer wendet, steht die Frage, warum es spannend und lehrreich sein kann Geschichte und Gegenwart einer Stadt durch die „Genderbrille“ zu betrachten. Anhand von Beispielen quer durch die Jahrhunderte wird deutlich, dass Frauen und Männer - auch als Angehörige ein-und derselben Schicht oder Klasse - immer unterschiedliche Lebens- und Arbeitsbedingungen hatten. Folglich unterschieden sich auch ihre Interessen und die Strategien, diese Interessen durchzusetzen. Wir werfen Schlaglichter auf Hexen und Beginen, auf Herzoge, Könige und Mönche, auf Arbeitertinnen und Bürgerliche, Revolutionärtinnen, Reaktionäre und Rechte und fragen uns, wie es um die Gleichberechtigung von Männern und Frauen in der Gegenwart bestellt ist.&lt;/p&gt; 
DTSTART:20200329T110000
DTEND:20200329T130000
LOCATION:Marienplatz, Fischbrunnen
ORGANIZER:DGB-Bildungswerk Bayern e.V. Region München
END:VEVENT
END:VCALENDAR