BEGIN:VCALENDAR
VERSION:2.0
PRODID:-//Stadtgeschichte München//DE
CALSCALE:GREGORIAN
BEGIN:VEVENT
UID:1848@stadtgeschichte-muenchen.de
SUMMARY:Das Biermuseum München
DESCRIPTION:&lt;div&gt;M&amp;uuml;nchens bekanntestem Getr&amp;auml;nk ist seit einigen Jahren ein Museum gewidmet. Hier erf&amp;auml;hrt man alles &amp;uuml;ber Bierbarone und Bier-pfenning, Reinheitsgebot und Hopfenkrone. Untergebracht ist das liebevoll gestaltete Museum in einem der &amp;auml;ltesten B&amp;uuml;rgerh&amp;auml;user M&amp;uuml;nchens, so dass der Besucher in Rauchkuchln und auf Himmelsleitern Bekanntschaft mit dem mittelalterlichen Leben in M&amp;uuml;nchen machen kann.&lt;/div&gt;
DTSTART:20120329T140000
DTEND:20120329T150000
LOCATION:Biermuseum, Sterneckerstraße 2,
ORGANIZER:Münchner Bildungswerk e.V.
END:VEVENT
END:VCALENDAR