BEGIN:VCALENDAR
VERSION:2.0
PRODID:-//Stadtgeschichte München//DE
CALSCALE:GREGORIAN
BEGIN:VEVENT
UID:18481@stadtgeschichte-muenchen.de
SUMMARY:Historische Führung Klinikum Dritter Orden - München Nymphenburg
DESCRIPTION:&lt;p&gt;Seit 1912 versorgt das Klinikum Dritter Orden in München Nymphenburg Patienten in neun Haupt- und fünf Belegabteilungen sowie verschiedenen medizinischen Zentren weit über den Münchner Westen hinaus. Bei einem historischen Rundgang wird die Geschichte des Hauses erläutert und ein Blick hinter die Kulissen ermöglicht. Dabei entdecken Sie interessante Zusammenhänge im Klinikalltag.&lt;/p&gt; 
DTSTART:20200114T170000
DTEND:20200114T183000
LOCATION:Klinikum Dritter Orden, Franz-Schrank-Str. 4
ORGANIZER:DGB-Bildungswerk Bayern e.V. Region München
END:VEVENT
END:VCALENDAR