BEGIN:VCALENDAR
VERSION:2.0
PRODID:-//Stadtgeschichte München//DE
CALSCALE:GREGORIAN
BEGIN:VEVENT
UID:18482@stadtgeschichte-muenchen.de
SUMMARY:Drechslerei Seiler
DESCRIPTION: &lt;p&gt;Das Drechseln ist eine uralte Handwerkskunst, sie reicht bis zur Antike zurück. In München gibt es nur noch eine einzige Drechslerei, die seit mehreren Generationen als Familienbetrieb weitergeführt wird. Dort werden u.a. auch die Anzapfschlegel für das Oktoberfest gefertigt. Was sonst noch gefertigt wird und was das Drechslerhandwerk in Vergangenheit und Gegenwart ausmacht, erfahren Sie bei einer Werkstattführung mit Vorführung an einer Drehbank.&lt;/p&gt; 
DTSTART:20200203T163000
DTEND:20200203T183000
LOCATION:Blutenburgstr. 84 (Hinterhof)
ORGANIZER:DGB-Bildungswerk Bayern e.V. Region München
END:VEVENT
END:VCALENDAR