BEGIN:VCALENDAR
VERSION:2.0
PRODID:-//Stadtgeschichte München//DE
CALSCALE:GREGORIAN
BEGIN:VEVENT
UID:18489@stadtgeschichte-muenchen.de
SUMMARY:Abfallwirtschaftsbetrieb München (AWM)Der Abfallwirtschaftsbetrieb München (AWM) ist der
DESCRIPTION:&lt;p&gt;Der Abfallwirtschaftsbetrieb München (AWM) ist der größte kommunale Entsorgungsbetrieb Deutschlands.&lt;/p&gt; &lt;p&gt;Was macht die Münchner Müllabfuhr?&lt;/p&gt; &lt;p&gt;Abfallvermeidung, Abfalltrennung, Abfallsammlung und Abfallbehandlung in München. In einem Vortrag werden alle Aspekte der Münchner Abfallwirtschaft behandelt und diskutiert.&lt;/p&gt; 
DTSTART:20200122T160000
DTEND:20200122T180000
LOCATION:Abfallwirtschaftsbetrieb, Foyer, Georg-Brauchle-Ring 29
ORGANIZER:DGB-Bildungswerk Bayern e.V. Region München
END:VEVENT
END:VCALENDAR