BEGIN:VCALENDAR
VERSION:2.0
PRODID:-//Stadtgeschichte München//DE
CALSCALE:GREGORIAN
BEGIN:VEVENT
UID:18503@stadtgeschichte-muenchen.de
SUMMARY:Schloss Blutenburg
DESCRIPTION:&lt;p&gt;Die Schlossanlage aus dem 15. Jahrhundert mit ihrer wechselvollen Geschichte ist ein kunsthistorisches Juwel in traumhafter Umgebung. Die Räumlichkeiten beherbergen die Internationale Jugendbibliothek sowie zugehörige Einrichrungen wie das Michael-Ende-Museum, das Erich-Kästner-Zimmer, den James-Krüss- Turm und das Binette-Schroeder-Kabinett.&lt;/p&gt; &lt;p&gt;Bei einem Rundgang erfahren Sie mehr zur Geschichte und zu den Schätzen dieses spätgotischen Ensembles.&lt;/p&gt; 
DTSTART:20200124T170000
DTEND:20200124T183000
LOCATION:Seldweg 15, Schlosshof
ORGANIZER:DGB-Bildungswerk Bayern e.V. Region München
END:VEVENT
END:VCALENDAR