BEGIN:VCALENDAR
VERSION:2.0
PRODID:-//Stadtgeschichte München//DE
CALSCALE:GREGORIAN
BEGIN:VEVENT
UID:18509@stadtgeschichte-muenchen.de
SUMMARY:Typically Munich!
DESCRIPTION:&lt;p&gt;Wer waren das Münchner Kindl, die Münchner Moriskentänzer und die „Schöne Münchnerin“? Weshalb ist München als Kunst- und Bierstadt, Musik- und Medienstadt bekannt?&lt;/p&gt; &lt;p&gt;Die 60-minütige Führung in englischer Sprache präsentiert berühmte Ausstellungsobjekte zur Münchner Stadtgeschichte von der Stadtgründung bis heute und macht Lust auf eigene Entdeckungsreisen im Museum.&lt;/p&gt; &lt;p&gt;Kurz-Führung der Münchner Volkshochschule in englischer Sprache&lt;/p&gt; 
DTSTART:20200105T150000
DTEND:20200105T160000
LOCATION:Münchner Stadtmuseum, St.-Jakobs-Platz 1
ORGANIZER:MVHS
END:VEVENT
END:VCALENDAR