BEGIN:VCALENDAR
VERSION:2.0
PRODID:-//Stadtgeschichte München//DE
CALSCALE:GREGORIAN
BEGIN:VEVENT
UID:1857@stadtgeschichte-muenchen.de
SUMMARY:Alte Münchner Dorfkirchen
DESCRIPTION:&lt;div&gt;Die Kirche St. Georg in Bogenhausen, welche auf fr&amp;uuml;hromanische Zeit zur&amp;uuml;ckgeht und heute ein Rokokojuwel ist und der dazugeh&amp;ouml;rige Prominentenfriedhof sind unsere erste Anlaufstelle.&amp;nbsp;&lt;/div&gt; &lt;div&gt;Der zweite Termin gilt der Kirche St. Michael in Perlach, die ebenfalls einen romanischen Vorg&amp;auml;ngerbau hat und wo im fr&amp;uuml;hen 18. Jahrhundert ein qualit&amp;auml;tvoll ausgestatteter Neubau entstand. St. Achaz in Mittersendling, die dritte Kirche in unserer F&amp;uuml;hrungsreihe, erhielt Anfang des 20. Jahrhunderts einen Neubau von Richard Steidle; der Hochaltar von Cosmas Damian Asam und andere &amp;auml;ltere Kunstwerke wurden in das neubarocke Gotteshaus &amp;uuml;bernommen. Diese F&amp;uuml;hrungsreihe will im besten Sinn des Wortes &amp;bdquo;die Kirche im Dorf&amp;quot; lassen.&lt;/div&gt;
DTSTART:20120629T180000
DTEND:20120629T193000
LOCATION:St. Georg in Bogenhausen, Neuberghauser Straße, unter der Orgelempore
ORGANIZER:Münchner Bildungswerk e.V.
END:VEVENT
END:VCALENDAR