BEGIN:VCALENDAR
VERSION:2.0
PRODID:-//Stadtgeschichte München//DE
CALSCALE:GREGORIAN
BEGIN:VEVENT
UID:1860@stadtgeschichte-muenchen.de
SUMMARY:München und sein italienisches Flair
DESCRIPTION:&lt;div&gt;&amp;Uuml;ber Jahrhunderte wurde die Atmosph&amp;auml;re M&amp;uuml;nchens von italienischer Wesensart gepr&amp;auml;gt. Kurf&amp;uuml;rstin Henriette Adelaide von Savoyen f&amp;uuml;hrte den italienischen Geschmack ein und lie&amp;szlig; die Theatinerkirche nach r&amp;ouml;mischem Vorbild errichten. Grottenhof und K&amp;ouml;nigsbau der Residenz, Nationaltheater, Feldherrnhalle und Siegestor beziehen sich auf italienische und r&amp;ouml;mische Vorbilder oder stellen Architekturkopien dar. Selbst die Mariens&amp;auml;ule und St. Michael lassen sich auf italienische Einfl&amp;uuml;sse zur&amp;uuml;ckf&amp;uuml;hren. Erfahren Sie etwas &amp;uuml;ber die italienischen Urspr&amp;uuml;nge von bekannten M&amp;uuml;nchner Geb&amp;auml;uden und Denkm&amp;auml;lern und lassen Sie sich vom s&amp;uuml;dlichen Charme bezaubern.&lt;/div&gt;
DTSTART:20120804T150000
DTEND:20120804T170000
LOCATION:Theatinerkirche, Portal, Theatinerstr. 22
ORGANIZER:Münchner Bildungswerk e.V.
END:VEVENT
END:VCALENDAR