BEGIN:VCALENDAR
VERSION:2.0
PRODID:-//Stadtgeschichte München//DE
CALSCALE:GREGORIAN
BEGIN:VEVENT
UID:1861@stadtgeschichte-muenchen.de
SUMMARY:Lebensadern einer Stadt: Die Stadtbäche
DESCRIPTION:&lt;div&gt;Die Stadtb&amp;auml;che M&amp;uuml;nchens pr&amp;auml;gten nicht nur &amp;uuml;ber Jahrhunderte das Stadtbild, sondern erf&amp;uuml;llen noch immer viele Funktionen. Sie trieben M&amp;uuml;hlen an, dienten zur Abwasserbeseitigung und vieles mehr. Bei einem Rundgang durch die Altstadt auf den Spuren der B&amp;auml;che zeigt sich diese Vielseitigkeit und l&amp;auml;&amp;szlig;t das Alltagsleben damals und heute lebendig werden.&lt;/div&gt;
DTSTART:20120914T210000
DTEND:20120914T223000
LOCATION:Ecke Pfister-/Sparkassenstraße
ORGANIZER:Münchner Bildungswerk e.V.
END:VEVENT
END:VCALENDAR