BEGIN:VCALENDAR
VERSION:2.0
PRODID:-//Stadtgeschichte München//DE
CALSCALE:GREGORIAN
BEGIN:VEVENT
UID:1867@stadtgeschichte-muenchen.de
SUMMARY:Frauenzimmer!
DESCRIPTION:&lt;p&gt;Ob sch&amp;ouml;n, geheimnisvoll, skandal&amp;ouml;s &amp;ndash; oder alles zusammen: M&amp;uuml;nchens Frauen sind starke Pers&amp;ouml;nlichkeiten, die Geschichte schrieben. Auf diesem au&amp;szlig;ergew&amp;ouml;hnlichen Stadtspaziergang begegnen Sie einzigartigen weiblichen Gestalten der sagenhaften und wahrhaften Geschichte M&amp;uuml;nchens. Sie erfahren von Frauen, die sich erfolgreich gegen m&amp;auml;nnliche &amp;Uuml;bergriffe zur Wehr setzten, die in der Politik mitmischten, die Gem&amp;uuml;ter ihrer Zeit durch ihr unkonventionelles Auftreten erhitzten. Frauen voller Fehl und Tadel, aber auch Frauen, die erfolgreich die Geschicke der Stadt lenkten. Frauen, die von tiefer religi&amp;ouml;ser Inbrunst beseelt, aber auch Frauen, die Opfer religi&amp;ouml;sen Wahnsinns wurden. K&amp;uuml;nstlerinnen und Politikerinnen, F&amp;uuml;rstinnen und Vision&amp;auml;rinnen, M&amp;auml;tressen, Huren und Hexen. Kommen Sie mit auf Spurensuche zu den St&amp;auml;tten ihres Wirkens und Schaffens &amp;ndash; und lassen Sie sich inspirieren vom weiblichen Gesicht M&amp;uuml;nchens.&lt;/p&gt;
DTSTART:20120318T153000
DTEND:20120318T173000
LOCATION:Frauenkirche (vor dem Haupteingang)
ORGANIZER:Mystisches München
END:VEVENT
END:VCALENDAR