BEGIN:VCALENDAR
VERSION:2.0
PRODID:-//Stadtgeschichte München//DE
CALSCALE:GREGORIAN
BEGIN:VEVENT
UID:18757@stadtgeschichte-muenchen.de
SUMMARY:Von Altötting nach Brasilien.
DESCRIPTION:&lt;p&gt;Ruinen barocker Kirchen mitten im südamerikanischen Regenwald: Seit jeher üben die Überreste des „Jesuitenstaates&quot; eine Faszination auf Reisende aus. Die Skulpturen, die einst die Missionskirchen schmückten, wurden unter Anleitung europäischer Jesuiten von den Indigenen gefertigt. Einer der bekanntesten Missionare ist Anton Sepp aus Südtirol, der 1691 aus Altötting nach Südamerika kam. Julia Brandt beleuchtet in diesem Vortrag sein facettenreiches Leben und Wirken - als Baumeister, als Orgelbauer, als Komponist und Bildschnitzer.&lt;/p&gt; 
DTSTART:20200323T190000
DTEND:20200323T000000
LOCATION:Bayerisches Landesamt für Denkmalpflege - Hofgraben 4
ORGANIZER:Bayerisches Landesamt für Denkmalpflege
END:VEVENT
END:VCALENDAR