BEGIN:VCALENDAR
VERSION:2.0
PRODID:-//Stadtgeschichte München//DE
CALSCALE:GREGORIAN
BEGIN:VEVENT
UID:18780@stadtgeschichte-muenchen.de
SUMMARY:Neuerwerbung: Kaiser Karl VII.
DESCRIPTION:
DTSTART:20200202T110000
DTEND:20200202T000000
LOCATION:Bayerisches Nationalmuseum, Prinzregentenstr. 3, Foyer
ORGANIZER:Bayerisches Nationalmuseum
END:VEVENT
END:VCALENDAR