BEGIN:VCALENDAR
VERSION:2.0
PRODID:-//Stadtgeschichte München//DE
CALSCALE:GREGORIAN
BEGIN:VEVENT
UID:18805@stadtgeschichte-muenchen.de
SUMMARY:Isarlust und grüner Baum
DESCRIPTION:&lt;p&gt;Bei diesem Rundgang zwischen den Brücken wollen wir Münchens vergangene Tage aufspüren. Wir hören von Teichelbrücken, die den Fluss überspannten, um München mit Trinkwasser zu versorgen, von Kalköfen, in denen Kalksteine gebrannt wurden, und von einer &quot;Lände&quot;, wo das &quot;Ordinarifloß&quot; anlegte, mit dem man bis nach Wien reisen konnte. Es geht um ein gewaltiges Kunstgewerbehaus, das nur einer einzigen Ausstellung diente - und um vieles mehr.&lt;/p&gt; 
DTSTART:20200718T110000
DTEND:20200718T130000
LOCATION:Ludwigsbrücke/Ecke Erhardtstr., (beim Pylon der Floßfahrt)
ORGANIZER:MVHS München Mitte   
END:VEVENT
END:VCALENDAR