BEGIN:VCALENDAR
VERSION:2.0
PRODID:-//Stadtgeschichte München//DE
CALSCALE:GREGORIAN
BEGIN:VEVENT
UID:18814@stadtgeschichte-muenchen.de
SUMMARY:Die Jakobidult in der Au - Münchens erste Dult
DESCRIPTION:&lt;p&gt;Was haben die Menschen auf sich genommen, um bei der einst wichtigsten Verkaufsmesse in München, der Jakobidult, dabei zu sein? Wie haben die Münchner Ratsherren die Händler, das Volk und den Stadtfrieden während der Dult geschützt? Was verbirgt sich hinter der Rennsau, dem Scharlachrennen und den &quot;Hoderlumpn&quot;? Streifen Sie mit einem Stadtführer und einer Geschichtenerzählerin über die Jakobidult und durch die Geschichte der Dult und hören Sie hintersinnige G\'schichten in bairischer Mundart über das Leben der Menschen von einst.&lt;/p&gt; 
DTSTART:20200731T150000
DTEND:20200731T170000
LOCATION:Mariahilfkirche, vor dem Hauptportal, Mariahilfplatz 11
ORGANIZER:MVHS München Mitte   
END:VEVENT
END:VCALENDAR