BEGIN:VCALENDAR
VERSION:2.0
PRODID:-//Stadtgeschichte München//DE
CALSCALE:GREGORIAN
BEGIN:VEVENT
UID:18819@stadtgeschichte-muenchen.de
SUMMARY:Programme in English: Munich in the Nazi era - a guided tour
DESCRIPTION:&lt;p&gt;&quot;Everything that was rotten and bad in the Reich fled, as if by magic, to Munich&quot;, this is how Lion Feuchtwanger in his novel &quot;Success&quot; characterized the decade after the end of WWI. The time when Munich became the founding city and nerve centre of the Nazi party. On a tour of the historic city centre we explore buildings, streets, squares and memorials witnessing the birth, rise, reign, the crimes and atrocities and the downfall of National Socialism and its legacy as well as the role local authorities and the people of Munich played in it.&lt;/p&gt; 
DTSTART:20200816T140000
DTEND:20200816T160000
LOCATION:Marienplatz, am Fischbrunnen
ORGANIZER:MVHS München Mitte   
END:VEVENT
END:VCALENDAR