BEGIN:VCALENDAR
VERSION:2.0
PRODID:-//Stadtgeschichte München//DE
CALSCALE:GREGORIAN
BEGIN:VEVENT
UID:18835@stadtgeschichte-muenchen.de
SUMMARY:75. Jahrestag der Befreiung des Konzentrationslagers Dachau und seiner Außenlager
DESCRIPTION:&lt;p&gt;Die Befreiung des KZ Dachau und seiner 140 Außenlager jährt sich im Jahr 2020 zum 75. Mal. Anlässlich dieses Jahrestags geht der Historiker Dr. Dirk Riedel in seinen Ausführungen auf den aktuellen Forschungsstand über die Befreiung des Hauptlagers und einiger seiner Außenlager ein. Die US-Truppen fanden am 29. April 1945 eine Situation vor, die alle Beteiligten überforderte. Das Hauptiager war mit über 30.000 entkräfteten, kranken und sterbenden Häftlingen überfüllt; zusätzlich wurden Hunderte von Leichen gefunden.&lt;/p&gt; &lt;p&gt;Auch hatten die Bewacher unmittelbar vor dem Eintreffen der US-Soldaten die jüdischen, sowjetischen und deutschen Gefangenen auf „Todesmärsche&quot; getrieben, die noch über 1000 Häftlinge das Leben kosteten.&lt;/p&gt; &lt;p&gt;Am 30. April erreichten die US-Truppen München, in den ersten Maitagen befreiten sie östlich von München die letzten Gefangenen. Der Historiker Dr. Dirk Riedel ist wissenschaftlicher Mitarbeiter am NS-Dokumentationszentrum in München, zuvor war er zehn Jahre an der KZ-Gedenkstätte Dachau tätig.&lt;/p&gt; &lt;p&gt;In Kooperation mit Seidlvilla e. V. und Gegen Vergessen - Für Demokratie e.V., Regionale Arbeitsgruppe München&lt;/p&gt; 
DTSTART:20200506T190000
DTEND:20200506T203000
LOCATION:Seidlvilla, Haupthaus ■ Nikolaiplatz 1b
ORGANIZER:MVHS München Nord
END:VEVENT
END:VCALENDAR