BEGIN:VCALENDAR
VERSION:2.0
PRODID:-//Stadtgeschichte München//DE
CALSCALE:GREGORIAN
BEGIN:VEVENT
UID:18836@stadtgeschichte-muenchen.de
SUMMARY:Verfolgung und Widerstand
DESCRIPTION:&lt;p&gt;Anlässlich des 75. Jahrestags der Befreiung wirft Eva Maria Volland Schlaglichter auf Frauenschicksale in der Zeit der NS-Diktatur. Sie berichtet über Jüdinnen, die verfolgt und im Judenlager Milbertshofen interniert wurden und über Frauen, die im Widerstand ihre Freiheit und ihr Leben riskierten. Nach einigen von ihnen, wie z.B. Rosa Aschenbrenner, Lotte Branz und Centa Herker-Beimler sind im Münchner Norden Straßen benannt.&lt;/p&gt; 
DTSTART:20200622T190000
DTEND:20200622T203000
LOCATION:MVHS in Moosach ■ Baubergerstr. 6a
ORGANIZER:MVHS München Nord
END:VEVENT
END:VCALENDAR