BEGIN:VCALENDAR
VERSION:2.0
PRODID:-//Stadtgeschichte München//DE
CALSCALE:GREGORIAN
BEGIN:VEVENT
UID:18837@stadtgeschichte-muenchen.de
SUMMARY:75 Jahre Befreiung: Der Münchner Norden zur NS-Zeit
DESCRIPTION:&lt;p&gt;Die ab Kriegsbeginn 1939 zunehmende Ausbreitung der Rüstungsindustrie im Münchner Norden brachte mit fortlaufender Kriegsdauer die Errichtung vieler Firmen- und Sammellager mit sich. Auch im Münchner Norden befanden sich Kriegsgefangenen-, Zwangs- und Fremdarbeiterlager sowie Polizei- und Konzentrationslager. Der Vortrag behandelt u.a. die wesentlichsten Lager sowie die allgemeinen Arbeits- und Lebensbedingungen der in der Rüstungsindustrie eingesetzten Kriegsgefangenen, Zwangs- und Fremdarbeiter sowie der KZ-Häftlinge.&lt;/p&gt; &lt;p&gt;Im Rahmen der Vortragsreihe „Montags in Moosach&quot;.&lt;/p&gt; &lt;p&gt;In Kooperation mit dem Geschichtsverein Moosach e.V.&lt;/p&gt; 
DTSTART:20200309T183000
DTEND:20200309T200000
LOCATION:MVHS in Moosach ■ Baubergerstr. 6a
ORGANIZER:MVHS München Nord
END:VEVENT
END:VCALENDAR