BEGIN:VCALENDAR
VERSION:2.0
PRODID:-//Stadtgeschichte München//DE
CALSCALE:GREGORIAN
BEGIN:VEVENT
UID:18839@stadtgeschichte-muenchen.de
SUMMARY:Erinnern. Erhalten. Neu denken
DESCRIPTION:&lt;p&gt;Auf dem Gelände der heutigen Wohnsiedlung Ludwigsfeld betrieb die Firma BMW zwischen 1943 und 1945 das zum KZ in Dachau gehörende Außenlager Dachau-Allach. Nach dem Krieg wurde es als Lager für Displaced Persons, für deutsche Kriegsgefangene und als Bundesauswanderungslager genutzt. Die Führung beschäftigt sich mit der wechselvollen Geschichte dieses Areals und gibt Einblick in die aktuelle Diskussion um eine angemessene Form des Erinnerns. Zum Tag des offenen Denkmals 2020.&lt;/p&gt; 
DTSTART:20200913T140000
DTEND:20200913T150000
LOCATION:KZ-Baracke in Ludwigsfeld • Granatstr. 10
ORGANIZER:MVHS München Nord
END:VEVENT
END:VCALENDAR